BEGIN:VCALENDAR
VERSION:2.0
PRODID:-//Akademie Steinwald-Fichtelgebirge ASF - ECPv4.7.1//NONSGML v1.0//EN
CALSCALE:GREGORIAN
METHOD:PUBLISH
X-WR-CALNAME:Akademie Steinwald-Fichtelgebirge ASF
X-ORIGINAL-URL:https://akademie-steinwald-fichtelgebirge.de
X-WR-CALDESC:Veranstaltungen für Akademie Steinwald-Fichtelgebirge ASF
BEGIN:VEVENT
DTSTART;TZID=UTC+0:20260717T190000
DTEND;TZID=UTC+0:20260717T233000
DTSTAMP:20260420T025050
CREATED:20260304T091537Z
LAST-MODIFIED:20260304T091607Z
UID:4319-1784314800-1784331000@akademie-steinwald-fichtelgebirge.de
SUMMARY:Tanz im Schloss: Save the date 17.07.2026
DESCRIPTION:
URL:https://akademie-steinwald-fichtelgebirge.de/event/tanz-im-schloss-save-the-date-17-07-2026/
LOCATION:Schloss Röthenbach\, Schlossplatz\, Arzberg\, 95659\, Deutschland
ORGANIZER;CN="AKADEMIE%20Steinwald%20Fichtelgebirge":MAILTO:info@akademie-steinwald-fichtelgebirge
END:VEVENT
END:VCALENDAR