BEGIN:VCALENDAR
VERSION:2.0
PRODID:-//Akademie Steinwald-Fichtelgebirge ASF - ECPv4.7.1//NONSGML v1.0//EN
CALSCALE:GREGORIAN
METHOD:PUBLISH
X-WR-CALNAME:Akademie Steinwald-Fichtelgebirge ASF
X-ORIGINAL-URL:https://akademie-steinwald-fichtelgebirge.de
X-WR-CALDESC:Veranstaltungen für Akademie Steinwald-Fichtelgebirge ASF
BEGIN:VEVENT
DTSTART;TZID=UTC+0:20260609T140000
DTEND;TZID=UTC+0:20260609T150000
DTSTAMP:20260420T024222
CREATED:20260304T091821Z
LAST-MODIFIED:20260304T091921Z
UID:4322-1781013600-1781017200@akademie-steinwald-fichtelgebirge.de
SUMMARY:SENIOR: "Adelsgeschlechter und ihre Burgen im östlichen Fichtelgebirge" (Walter Rößler)
DESCRIPTION:Ein Vortrag von Kreisheimatpfleger Walter Rößler.  \nWeitere Informationen folgen \n
URL:https://akademie-steinwald-fichtelgebirge.de/event/senior-adelsgeschlechter-und-ihre-burgen-im-oestlichen-fichtelgebirge-walter-roessler/
LOCATION:Meister BÄR HOTEL\, Bahnhofsplatz 10\, Marktredwitz\, 95615
CATEGORIES:ASF-SENIOR
END:VEVENT
END:VCALENDAR