BEGIN:VCALENDAR
VERSION:2.0
PRODID:-//Akademie Steinwald-Fichtelgebirge ASF - ECPv4.7.1//NONSGML v1.0//EN
CALSCALE:GREGORIAN
METHOD:PUBLISH
X-WR-CALNAME:Akademie Steinwald-Fichtelgebirge ASF
X-ORIGINAL-URL:https://akademie-steinwald-fichtelgebirge.de
X-WR-CALDESC:Veranstaltungen für Akademie Steinwald-Fichtelgebirge ASF
BEGIN:VEVENT
DTSTART;TZID=UTC+0:20260521T140000
DTEND;TZID=UTC+0:20260521T160000
DTSTAMP:20260420T124031
CREATED:20260420T085641Z
LAST-MODIFIED:20260420T091945Z
UID:4381-1779372000-1779379200@akademie-steinwald-fichtelgebirge.de
SUMMARY:KOMPAKT: Besichtigung des "Osteopathischen Kinder-Zentrums Filumi Bad Alexandersbad"
DESCRIPTION:Das Osteopathische Kinder-Zentrum Filumi in Bad Alexandersbad ist ein interdisziplinäres Zentrum\, das die Lebensqualität von schwer erkrankten und schwer behinderten Babys\, Kindern und Jugendlichen nachhaltig verbessern möchte. Ein Team aus erfahrenen Ärzten\, Osteopathen\, Physiotherapeuten und Heilpraktikern bietet in enger Zusammenarbeit eine breite Palette ganzheitlicher Therapieangebote an. Individuell abgestimmt auf die unterschiedlichen Bedürfnisse der Patienten und ihrer Familien.  Der kleine Fuchs Filumi ist das Symbol des Osteopathischen Kinder-Zentrums und soll den jungen Patienten Mut machen. Der Name Filumi setzt sich aus dem französischen Wort Filou\, was so viel wie „kleiner Schelm“ bedeutet\, und dem englischen Wort für mich „me“ zusammen (www.filumi-kinderzentrum.de).  \nDas Osteopathische Kinder-Zentrum Filumi befindet sich im Alten Kurhaus Bad Alexandersbad. Prokurist Christian Heinrich wird uns durch die Räumlichkeiten führen und das besondere Konzept des Kinder-Zentrums erklären. Im Anschluss an die Führung gibt es die Möglichkeit eines gemeinsamen Kaffeetrinkens im Bistro Holly\, das sich im gleichen Gebäude befindet.  \nWir bitten um Anmeldung bis zum 14.05.2026. Der Eintritt ist für Mitglieder der AKADEMIE frei\, für Nichtmitglieder beträgt er 5\,00 €. Treffpunkt ist das Foyer des ALEXBad.  \nFür diese Veranstaltung anmelden >> \n(Der Link funktioniert nur\, wenn Sie outlook verwenden) \nAlternativ Anmeldung per E-Mail an: info@akademie-steinwald-fichtelgebirge.de \noder telefonisch: 09231 / 603-603 oder WhatsApp 0151 / 40 35 85 01 \nMit der Teilnahme an der Veranstaltung erklären Sie sich einverstanden\, dass Sie gegebenenfalls auf Aufnahmen zu sehen sind\, die im Rahmen der Öffentlichkeitsarbeit der AKADEMIE Steinwald-Fichtelgebirge verwendet werden. Sie können der Nutzung der personenbezogenen Daten widersprechen. Der Widerspruch ist zu richten an: info@akademie-steinwald-fichtelgebirge.de.    \n  \n
URL:https://akademie-steinwald-fichtelgebirge.de/event/kompakt-besichtigung-des-osteopathischen-kinder-zentrums-filumi-bad-alexandersbad/
LOCATION:Filumi\, Markgrafenstr. 28\, Bad Alexandersbad\, 95680
ATTACH;FMTTYPE=image/jpeg:https://akademie-steinwald-fichtelgebirge.de/wp-content/uploads/2026/04/Logo.jpg
ORGANIZER;CN="AKADEMIE%20Steinwald%20Fichtelgebirge":MAILTO:info@akademie-steinwald-fichtelgebirge
END:VEVENT
END:VCALENDAR